BEGIN:VCALENDAR
VERSION:2.0
PRODID:-//Kulturothek Frankfurt - ECPv6.15.20//NONSGML v1.0//EN
CALSCALE:GREGORIAN
METHOD:PUBLISH
X-ORIGINAL-URL:https://kulturothek-frankfurt.de
X-WR-CALDESC:Veranstaltungen für Kulturothek Frankfurt
REFRESH-INTERVAL;VALUE=DURATION:PT1H
X-Robots-Tag:noindex
X-PUBLISHED-TTL:PT1H
BEGIN:VTIMEZONE
TZID:Europe/Berlin
BEGIN:DAYLIGHT
TZOFFSETFROM:+0100
TZOFFSETTO:+0200
TZNAME:CEST
DTSTART:20250330T010000
END:DAYLIGHT
BEGIN:STANDARD
TZOFFSETFROM:+0200
TZOFFSETTO:+0100
TZNAME:CET
DTSTART:20251026T010000
END:STANDARD
BEGIN:DAYLIGHT
TZOFFSETFROM:+0100
TZOFFSETTO:+0200
TZNAME:CEST
DTSTART:20260329T010000
END:DAYLIGHT
BEGIN:STANDARD
TZOFFSETFROM:+0200
TZOFFSETTO:+0100
TZNAME:CET
DTSTART:20261025T010000
END:STANDARD
BEGIN:DAYLIGHT
TZOFFSETFROM:+0100
TZOFFSETTO:+0200
TZNAME:CEST
DTSTART:20270328T010000
END:DAYLIGHT
BEGIN:STANDARD
TZOFFSETFROM:+0200
TZOFFSETTO:+0100
TZNAME:CET
DTSTART:20271031T010000
END:STANDARD
END:VTIMEZONE
BEGIN:VEVENT
DTSTART;TZID=Europe/Berlin:20260425T203000
DTEND;TZID=Europe/Berlin:20260425T230000
DTSTAMP:20260424T104933
CREATED:20260410T075745Z
LAST-MODIFIED:20260410T075853Z
UID:10000802-1777149000-1777158000@kulturothek-frankfurt.de
SUMMARY:Nacht der Museen: Friedrich Stoltze „Es is kaa Stadt uff der weite Welt…“
DESCRIPTION:2026 würde Friedrich Stoltze 210 Jahre alt! Anlass genug\, dem prominenten Bewohner der Frankfurter Altstadt während der Nacht der Museen eine 30minütige Kurzführung zu widmen\, die gewürzt ist mit Frankfurter Stadtgeschichte nicht nur in mundartlichen Gedichten. Nicht nur heitere Begebenheiten schrieb Stoltze in Prosa und Reimen nieder\, seine satirischen Gedichte und Texte\, argwöhnisch beobachtet von der Zensur\, zeigen seine wahre Begabung als Intellektueller und scharfer Kritiker der politischen Zustände seiner Zeit.\nTeilnahme mit Nacht der Museen Ticket. \nBeginn: 20.30\, 21.00\, 21.30\, 22.00\, 22.30 und 23.00 Uhr\nDauer: Jeweils 30 min \nAn diesem Abend ist auch unser Frankfurtladen geöffnet.
URL:https://kulturothek-frankfurt.de/event/nacht-der-museen-friedrich-stoltze-es-is-kaa-stadt-uff-der-weite-welt/
LOCATION:KULTUROTHEK Frankfurtladen\, Markt 32\, Frankfurt\, Hessen\, 60311
CATEGORIES:Geschichte
END:VEVENT
BEGIN:VEVENT
DTSTART;TZID=Europe/Berlin:20260426T140000
DTEND;TZID=Europe/Berlin:20260426T160000
DTSTAMP:20260424T104933
CREATED:20260120T131050Z
LAST-MODIFIED:20260421T132048Z
UID:10000731-1777212000-1777219200@kulturothek-frankfurt.de
SUMMARY:Frankfurt liest ein Buch 2026: Das Westend - ein Stadtspaziergang auf den Spuren der Dichterin und ihres Werkes
DESCRIPTION:Über 30 Jahre bis zu ihrem Tod 1974 lebte die gebürtige Karlsruherin mit Unterbrechungen im Frankfurter Westend. In einer Stadt\, von der Sie einmal in einem Interview sagte: „Ich liebe die Stadt Frankfurt\, ich liebe den Main\, den alten Palmengarten und die neue Zeil“. Aufmerksam hat sie sie beobachtet und ihren Veränderungen nachgespürt\, etwa dem Untergang der Stadt im Zweiten Weltkrieg\, dem Abriss intakter Westend-Häuser für Bürogebäude. Vieles davon ist in ihr Werk eingeflossen. Mit einem Schwerpunkt auf dem diesjährigen Buch des Lesefestivals „Gott und die Welt. Aufzeichnungen aus der Wiesenau“ spazieren wir durch Frankfurt: Lesen Passagen\, betrachten das Leben der Marie L Kaschnitz und spüren der Geschichte des jeweiligen Ortes nach. \nAlle Veranstaltungen\, die wir im Rahmen von Frankfur liest ein Buch anbieten\, finden Sie hier. \n 
URL:https://kulturothek-frankfurt.de/event/frankfurt-liest-ein-buch-2026-das-westend-ein-stadtspaziergang-auf-den-spuren-der-dichterin-und-ihres-werkes/
LOCATION:Brunnen vor der Alten Oper\, Taunusanlage 21\, Frankfurt\, 60325
CATEGORIES:Frankfurt liest ein Buch
END:VEVENT
BEGIN:VEVENT
DTSTART;TZID=Europe/Berlin:20260427T170000
DTEND;TZID=Europe/Berlin:20260427T183000
DTSTAMP:20260424T104933
CREATED:20260202T113355Z
LAST-MODIFIED:20260202T113355Z
UID:10000740-1777309200-1777314600@kulturothek-frankfurt.de
SUMMARY:Führung durch das EZB Hauptgebäude
DESCRIPTION:Markant ragt der gläserne Büroturm der EZB im Frankfurter Osten in den Himmel. Interessierte können an einer Führung teilnehmen\, um sich den Arbeitsort der Hüter des Euro aus der Nähe anzusehen. Etappen des 90-minütigen Rundgangs sind die denkmalgeschützte und aufwendig sanierte Großmarkthalle\, der Konferenzbereich mit ausgewählten Exponaten aus der Kunstsammlung der EZB sowie der rund 185 Meter hohe Doppel-Büroturm. \n \nDer Entwurf des Gebäudes stammt vom Wiener Architekten Wolf D. Prix und seinem Architekturbüro COOP HIMMELB(L)AU. Während der Führung werden interessante Details zur Konstruktion\, Energieeffizienz und Nachhaltigkeit des Gebäudes erläutert. Den buchstäblichen Höhepunkt des Rundgangs bildet die Auffahrt zur Verbindungsebene zwischen den beiden Bürotürmen im 27. Stock. Von dort aus bietet sich ein atemberaubender Blick über die Stadt Frankfurt und ihre Umgebung. \nFotos: ECB \nWICHTIGE INFORMATIONEN: \n\n\n\nDauer:\nca. 1\,5 Stunden\n\n\nTeilnahmegebühr:\nkostenfrei\n\n\nTreffpunkt:\n30 Minuten vor Beginn der Führung am Besuchereingang (Sicherheitskontrolle)\, Sonnemannstraße 20.\nLetzter Einlaß: 16:50 Uhr\n\n\n\nDie Teilnahme ist nur nach vorheriger Anmeldung möglich. Jeder individuelle Gast muss namentlich und mit Geburtsdatum gelistet werden. Der Zugang zum Gebäude ist nur mit einem gültigen Reisepass im Original gestattet. Im Falle von EU- and EFTA-Staatsangehörigen (Island\, Liechtenstein\, Norwegen und Schweiz) genügt auch ein gültiger Original-Personalausweis. Führerscheine\, Studierenden- oder Mitarbeiterausweise und Aufenthaltstitel werden nicht akzeptiert.\n\n\nBitte beachten:\nDas Mitführen von Waffen\, gefährlichen Gegenständen und Substanzen sowie großen Gepäckstücken ist untersagt. Haustiere dürfen nicht mitgebracht werden.\n\n\nMindestalter:\n16 Jahre\n\n\nBarrierefreiheit:\nDiese Führung ist rollstuhlgerecht. Geben Sie etwaige Mobilitätseinschränkungen bitte bei der Buchung an.\n\n\nDisclaimer:\nDie EZB behält sich vor\, die Führung kurzfristig abzusagen.\nPro Person bitte nur eine Buchung.\nBitte lesen Sie die Datenschutzerklärung der EZB sowie die geltenden Hausregeln sorgfältig durch. Mit Ihrer Teilnahme am Besuch erklären Sie sich automatisch mit diesen Bestimmungen einverstanden.
URL:https://kulturothek-frankfurt.de/event/fuehrung-durch-das-ezb-hauptgebaeude-39/
LOCATION:Privat: Europäische Zentralbank\, Sonnemannstraße 20\, Frankfurt\, 60314\, Deutschland
CATEGORIES:Architektur,Europäische Zentralbank,Exklusive Hausführung
END:VEVENT
BEGIN:VEVENT
DTSTART;TZID=Europe/Berlin:20260428T170000
DTEND;TZID=Europe/Berlin:20260428T183000
DTSTAMP:20260424T104933
CREATED:20260202T113723Z
LAST-MODIFIED:20260203T111005Z
UID:10000741-1777395600-1777401000@kulturothek-frankfurt.de
SUMMARY:Führung durch das EZB Hauptgebäude
DESCRIPTION:Markant ragt der gläserne Büroturm der EZB im Frankfurter Osten in den Himmel. Interessierte können an einer Führung teilnehmen\, um sich den Arbeitsort der Hüter des Euro aus der Nähe anzusehen. Etappen des 90-minütigen Rundgangs sind die denkmalgeschützte und aufwendig sanierte Großmarkthalle\, der Konferenzbereich mit ausgewählten Exponaten aus der Kunstsammlung der EZB sowie der rund 185 Meter hohe Doppel-Büroturm. \n \nDer Entwurf des Gebäudes stammt vom Wiener Architekten Wolf D. Prix und seinem Architekturbüro COOP HIMMELB(L)AU. Während der Führung werden interessante Details zur Konstruktion\, Energieeffizienz und Nachhaltigkeit des Gebäudes erläutert. Den buchstäblichen Höhepunkt des Rundgangs bildet die Auffahrt zur Verbindungsebene zwischen den beiden Bürotürmen im 27. Stock. Von dort aus bietet sich ein atemberaubender Blick über die Stadt Frankfurt und ihre Umgebung. \nFotos: ECB \nWICHTIGE INFORMATIONEN: \n\n\n\nDauer:\nca. 1\,5 Stunden\n\n\nTeilnahmegebühr:\nkostenfrei\n\n\nTreffpunkt:\n30 Minuten vor Beginn der Führung am Besuchereingang (Sicherheitskontrolle)\, Sonnemannstraße 20.\nLetzter Einlaß: 16:50 Uhr\n\n\n\nDie Teilnahme ist nur nach vorheriger Anmeldung möglich. Jeder individuelle Gast muss namentlich und mit Geburtsdatum gelistet werden. Der Zugang zum Gebäude ist nur mit einem gültigen Reisepass im Original gestattet. Im Falle von EU- and EFTA-Staatsangehörigen (Island\, Liechtenstein\, Norwegen und Schweiz) genügt auch ein gültiger Original-Personalausweis. Führerscheine\, Studierenden- oder Mitarbeiterausweise und Aufenthaltstitel werden nicht akzeptiert.\n\n\nBitte beachten:\nDas Mitführen von Waffen\, gefährlichen Gegenständen und Substanzen sowie großen Gepäckstücken ist untersagt. Haustiere dürfen nicht mitgebracht werden.\n\n\nMindestalter:\n16 Jahre\n\n\nBarrierefreiheit:\nDiese Führung ist rollstuhlgerecht. Geben Sie etwaige Mobilitätseinschränkungen bitte bei der Buchung an.\n\n\nDisclaimer:\nDie EZB behält sich vor\, die Führung kurzfristig abzusagen.\nPro Person bitte nur eine Buchung.\nBitte lesen Sie die Datenschutzerklärung der EZB sowie die geltenden Hausregeln sorgfältig durch. Mit Ihrer Teilnahme am Besuch erklären Sie sich automatisch mit diesen Bestimmungen einverstanden.
URL:https://kulturothek-frankfurt.de/event/fuehrung-durch-das-ezb-hauptgebaeude-40/
LOCATION:Privat: Europäische Zentralbank\, Sonnemannstraße 20\, Frankfurt\, 60314\, Deutschland
CATEGORIES:Architektur,Europäische Zentralbank,Exklusive Hausführung
END:VEVENT
BEGIN:VEVENT
DTSTART;TZID=Europe/Berlin:20260430T170000
DTEND;TZID=Europe/Berlin:20260430T183000
DTSTAMP:20260424T104933
CREATED:20260120T123847Z
LAST-MODIFIED:20260325T124936Z
UID:10000729-1777568400-1777573800@kulturothek-frankfurt.de
SUMMARY:Frankfurt liest ein Buch 2026: Bildvortrag- Die Stadt und die Poetin: Frankfurt am Main im Erleben der Marie Luise Kaschnitz
DESCRIPTION:Inhalt des Bildvortrages ist ein Portrait Marie Luise Kaschnitzs: Ihr Lebensweg\, der sie 1941 nach Frankfurt brachte\, ihre Frankfurter Jahre als eine intensive Begegnung mit der Stadt\, deren Zerstörung in den späten Kriegsjahren und der nicht immer sorgenfreien Nachkriegszeit. Kaschnitz\, die bis zu ihrem Tod 1974 mit Unterbrechungen im Westend wohnte\, musste jeden Tag den Verlust ihrer Wohnung durch Immobilienspekulation fürchten. Dennoch liebte sie Frankfurt\, besonders den Spaziergang im nahen Palmengarten und den täglichen Besuch im Stadtbad Mitte. Diese Sorge und Liebe zur Stadt lassen sich nicht nur in dem Buch „Gott und die Welt“\, sondern in ihrem späten lyrischen Werk mannigfaltig wiederfinden. \nAlle Veranstaltungen\, die wir im Rahmen von Frankfur liest ein Buch anbieten\, finden Sie hier. \n 
URL:https://kulturothek-frankfurt.de/event/bildvortrag-die-stadt-und-die-poetin-frankfurt-am-main-im-erleben-der-marie-luise-kaschnitz/
LOCATION:Veranstaltungsraum KULTUROTHEK\, Hinter dem Lämmchen 9\, Frankfurt\, 60311
CATEGORIES:Frankfurt liest ein Buch,Literatur
END:VEVENT
BEGIN:VEVENT
DTSTART;TZID=Europe/Berlin:20260430T170000
DTEND;TZID=Europe/Berlin:20260430T183000
DTSTAMP:20260424T104933
CREATED:20260202T114154Z
LAST-MODIFIED:20260203T110645Z
UID:10000742-1777568400-1777573800@kulturothek-frankfurt.de
SUMMARY:Führung durch das EZB Hauptgebäude
DESCRIPTION:Markant ragt der gläserne Büroturm der EZB im Frankfurter Osten in den Himmel. Interessierte können an einer Führung teilnehmen\, um sich den Arbeitsort der Hüter des Euro aus der Nähe anzusehen. Etappen des 90-minütigen Rundgangs sind die denkmalgeschützte und aufwendig sanierte Großmarkthalle\, der Konferenzbereich mit ausgewählten Exponaten aus der Kunstsammlung der EZB sowie der rund 185 Meter hohe Doppel-Büroturm. \n \nDer Entwurf des Gebäudes stammt vom Wiener Architekten Wolf D. Prix und seinem Architekturbüro COOP HIMMELB(L)AU. Während der Führung werden interessante Details zur Konstruktion\, Energieeffizienz und Nachhaltigkeit des Gebäudes erläutert. Den buchstäblichen Höhepunkt des Rundgangs bildet die Auffahrt zur Verbindungsebene zwischen den beiden Bürotürmen im 27. Stock. Von dort aus bietet sich ein atemberaubender Blick über die Stadt Frankfurt und ihre Umgebung. \nFotos: ECB \nWICHTIGE INFORMATIONEN: \n\n\n\nDauer:\nca. 1\,5 Stunden\n\n\nTeilnahmegebühr:\nkostenfrei\n\n\nTreffpunkt:\n30 Minuten vor Beginn der Führung am Besuchereingang (Sicherheitskontrolle)\, Sonnemannstraße 20.\nLetzter Einlaß: 16:50 Uhr\n\n\n\nDie Teilnahme ist nur nach vorheriger Anmeldung möglich. Jeder individuelle Gast muss namentlich und mit Geburtsdatum gelistet werden. Der Zugang zum Gebäude ist nur mit einem gültigen Reisepass im Original gestattet. Im Falle von EU- and EFTA-Staatsangehörigen (Island\, Liechtenstein\, Norwegen und Schweiz) genügt auch ein gültiger Original-Personalausweis. Führerscheine\, Studierenden- oder Mitarbeiterausweise und Aufenthaltstitel werden nicht akzeptiert.\n\n\nBitte beachten:\nDas Mitführen von Waffen\, gefährlichen Gegenständen und Substanzen sowie großen Gepäckstücken ist untersagt. Haustiere dürfen nicht mitgebracht werden.\n\n\nMindestalter:\n16 Jahre\n\n\nBarrierefreiheit:\nDiese Führung ist rollstuhlgerecht. Geben Sie etwaige Mobilitätseinschränkungen bitte bei der Buchung an.\n\n\nDisclaimer:\nDie EZB behält sich vor\, die Führung kurzfristig abzusagen.\nPro Person bitte nur eine Buchung.\nBitte lesen Sie die Datenschutzerklärung der EZB sowie die geltenden Hausregeln sorgfältig durch. Mit Ihrer Teilnahme am Besuch erklären Sie sich automatisch mit diesen Bestimmungen einverstanden.
URL:https://kulturothek-frankfurt.de/event/fuehrung-durch-das-ezb-hauptgebaeude-41/
LOCATION:Privat: Europäische Zentralbank\, Sonnemannstraße 20\, Frankfurt\, 60314\, Deutschland
CATEGORIES:Architektur,Europäische Zentralbank,Exklusive Hausführung
END:VEVENT
END:VCALENDAR