BEGIN:VCALENDAR
VERSION:2.0
PRODID:-//Kulturothek Frankfurt - ECPv6.15.20//NONSGML v1.0//EN
CALSCALE:GREGORIAN
METHOD:PUBLISH
X-WR-CALNAME:Kulturothek Frankfurt
X-ORIGINAL-URL:https://kulturothek-frankfurt.de
X-WR-CALDESC:Veranstaltungen für Kulturothek Frankfurt
REFRESH-INTERVAL;VALUE=DURATION:PT1H
X-Robots-Tag:noindex
X-PUBLISHED-TTL:PT1H
BEGIN:VTIMEZONE
TZID:Europe/Berlin
BEGIN:DAYLIGHT
TZOFFSETFROM:+0100
TZOFFSETTO:+0200
TZNAME:CEST
DTSTART:20250330T010000
END:DAYLIGHT
BEGIN:STANDARD
TZOFFSETFROM:+0200
TZOFFSETTO:+0100
TZNAME:CET
DTSTART:20251026T010000
END:STANDARD
BEGIN:DAYLIGHT
TZOFFSETFROM:+0100
TZOFFSETTO:+0200
TZNAME:CEST
DTSTART:20260329T010000
END:DAYLIGHT
BEGIN:STANDARD
TZOFFSETFROM:+0200
TZOFFSETTO:+0100
TZNAME:CET
DTSTART:20261025T010000
END:STANDARD
BEGIN:DAYLIGHT
TZOFFSETFROM:+0100
TZOFFSETTO:+0200
TZNAME:CEST
DTSTART:20270328T010000
END:DAYLIGHT
BEGIN:STANDARD
TZOFFSETFROM:+0200
TZOFFSETTO:+0100
TZNAME:CET
DTSTART:20271031T010000
END:STANDARD
END:VTIMEZONE
BEGIN:VEVENT
DTSTART;TZID=Europe/Berlin:20260614T150000
DTEND;TZID=Europe/Berlin:20260614T163000
DTSTAMP:20260420T124356
CREATED:20260318T104256Z
LAST-MODIFIED:20260318T104256Z
UID:10000778-1781449200-1781454600@kulturothek-frankfurt.de
SUMMARY:Frankfurt flunkert! - Geschichten kaum zu glauben aber wahr?
DESCRIPTION:Mit einem zwinkernden Auge erzählen wir die Geschichten auf der Stadtführung Frankfurt flunkert\, doch mögen sie noch so unglaubwürdig klingen\, einige davon sind wahr! Lustige Begebenheiten rund um die Frankfurter Stadtgeschichte haben wir uns ausgedacht. Manche „Fakten“ hat man schon einmal gehört\, aber stimmen sie auch? Und so manches Ereignis mutet einfach unglaublich an\, ist aber doch wirklich passiert. Wer Spaß hat\, uns beim Flunkern zu erwischen\, ist herzlich eingeladen\, auf dieser unterhaltsamen Tour dabei zu sein. \nWer es gerne humorvoll mag dem empfehlen wir unsere Touren aus der Rubrik Kurioses.
URL:https://kulturothek-frankfurt.de/event/frankfurt-flunkert-geschichten-kaum-zu-glauben-aber-wahr-2/
LOCATION:Stoltzebrunnen auf dem Hühnermarkt\, Hühnermarkt\, Frankfurt\, 60311\, Deutschland
CATEGORIES:Geschichte
END:VEVENT
END:VCALENDAR