BEGIN:VCALENDAR
VERSION:2.0
PRODID:-//Kulturothek Frankfurt - ECPv6.15.20//NONSGML v1.0//EN
CALSCALE:GREGORIAN
METHOD:PUBLISH
X-WR-CALNAME:Kulturothek Frankfurt
X-ORIGINAL-URL:https://kulturothek-frankfurt.de
X-WR-CALDESC:Veranstaltungen für Kulturothek Frankfurt
REFRESH-INTERVAL;VALUE=DURATION:PT1H
X-Robots-Tag:noindex
X-PUBLISHED-TTL:PT1H
BEGIN:VTIMEZONE
TZID:Europe/Berlin
BEGIN:DAYLIGHT
TZOFFSETFROM:+0100
TZOFFSETTO:+0200
TZNAME:CEST
DTSTART:20250330T010000
END:DAYLIGHT
BEGIN:STANDARD
TZOFFSETFROM:+0200
TZOFFSETTO:+0100
TZNAME:CET
DTSTART:20251026T010000
END:STANDARD
BEGIN:DAYLIGHT
TZOFFSETFROM:+0100
TZOFFSETTO:+0200
TZNAME:CEST
DTSTART:20260329T010000
END:DAYLIGHT
BEGIN:STANDARD
TZOFFSETFROM:+0200
TZOFFSETTO:+0100
TZNAME:CET
DTSTART:20261025T010000
END:STANDARD
BEGIN:DAYLIGHT
TZOFFSETFROM:+0100
TZOFFSETTO:+0200
TZNAME:CEST
DTSTART:20270328T010000
END:DAYLIGHT
BEGIN:STANDARD
TZOFFSETFROM:+0200
TZOFFSETTO:+0100
TZNAME:CET
DTSTART:20271031T010000
END:STANDARD
END:VTIMEZONE
BEGIN:VEVENT
DTSTART;TZID=Europe/Berlin:20260517T140000
DTEND;TZID=Europe/Berlin:20260517T160000
DTSTAMP:20260419T150832
CREATED:20260327T095249Z
LAST-MODIFIED:20260327T100026Z
UID:10000785-1779026400-1779033600@kulturothek-frankfurt.de
SUMMARY:Musikliebe in Frankfurt
DESCRIPTION:Wer hat in Frankfurt komponiert\, dirigiert oder musiziert? Wir begenen Mozart und seiner Schwester Nannerl\, die hier als Kinder ein gefeiertes Konzert gaben. Erinnern uns an Clara Schumann\, deren Lebensweg eng mit der Stadt verbunden war. Auch Felix Mendelssohn Bartholdy darf natürlich nicht fehlen. Wir folgen den Spuren von Paul Hindemith bis zu seinem heutigen Gedenkort\, dem Kuhhirtenturm\, wo er in den 1920er Jahren lebte und arbeitete. Aber auch andere Musiker:Innen die Frankfurt zum Klingen brachten\, dürfen natürlich nicht fehlen. Unterlegt wird diese Führung mit Musikstücken. \n 
URL:https://kulturothek-frankfurt.de/event/musikliebe-in-frankfurt/
LOCATION:Stoltzebrunnen auf dem Hühnermarkt\, Hühnermarkt\, Frankfurt\, 60311\, Deutschland
CATEGORIES:Exklusive Hausführung,Geschichte
END:VEVENT
BEGIN:VEVENT
DTSTART;TZID=Europe/Berlin:20260607T140000
DTEND;TZID=Europe/Berlin:20260607T160000
DTSTAMP:20260419T150832
CREATED:20260327T100351Z
LAST-MODIFIED:20260327T100351Z
UID:10000786-1780840800-1780848000@kulturothek-frankfurt.de
SUMMARY:Musikliebe in Frankfurt
DESCRIPTION:Wer hat in Frankfurt komponiert\, dirigiert oder musiziert? Wir begenen Mozart und seiner Schwester Nannerl\, die hier als Kinder ein gefeiertes Konzert gaben. Erinnern uns an Clara Schumann\, deren Lebensweg eng mit der Stadt verbunden war. Auch Felix Mendelssohn Bartholdy darf natürlich nicht fehlen. Wir folgen den Spuren von Paul Hindemith bis zu seinem heutigen Gedenkort\, dem Kuhhirtenturm\, wo er in den 1920er Jahren lebte und arbeitete. Aber auch andere Musiker:Innen die Frankfurt zum Klingen brachten\, dürfen natürlich nicht fehlen. Unterlegt wird diese Führung mit Musikstücken. \n 
URL:https://kulturothek-frankfurt.de/event/musikliebe-in-frankfurt-2/
LOCATION:Stoltzebrunnen auf dem Hühnermarkt\, Hühnermarkt\, Frankfurt\, 60311\, Deutschland
CATEGORIES:Exklusive Hausführung,Geschichte
END:VEVENT
END:VCALENDAR